BEGIN:VCALENDAR
VERSION:2.0
PRODID:-//Plone.org//NONSGML plone.app.event//EN
X-WR-TIMEZONE:Europe/Madrid
BEGIN:VEVENT
SUMMARY:1r Cafè Networking PMT
DTSTART;TZID=Europe/Madrid:20230120T090000
DTEND;TZID=Europe/Madrid:20230120T100000
DTSTAMP:20260424T113418Z
UID:1ec6b68e39f04d4c9d73b976601dffc1@cbl.upc.edu
CREATED:20221216T113755Z
DESCRIPTION:CAFÈ NETWORKING PMT neix amb la voluntat de generar uns momen
 ts de trobada entre tota la comunitat PMT per tal de conèixe'ns\, estar e
 n contacte\, i sobretot\, poder compartir els nostres projectes i reptes\,
  de manera que puguem identificar possibles sinèrgies i/o col·laboracion
 s.
LAST-MODIFIED:20221216T114000Z
LOCATION:Sala 013 Edifici RDIT
URL:https://cbl.upc.edu/ca/esdeveniments/1r-cafe-networking-pmt
END:VEVENT
BEGIN:VTIMEZONE
TZID:Europe/Madrid
X-LIC-LOCATION:Europe/Madrid
BEGIN:STANDARD
DTSTART:20221030T020000
TZNAME:CET
TZOFFSETFROM:+0200
TZOFFSETTO:+0100
END:STANDARD
END:VTIMEZONE
END:VCALENDAR
