BEGIN:VCALENDAR
VERSION:2.0
PRODID:-//Plone.org//NONSGML plone.app.event//EN
X-WR-TIMEZONE:Europe/Madrid
BEGIN:VEVENT
SUMMARY:Aula d'Extensió Universitària Sènior UPC
DTSTART;TZID=Europe/Madrid:20230114T180000
DTEND;TZID=Europe/Madrid:20230114T193000
DTSTAMP:20260425T010136Z
UID:a67f771cd4734eae8e2f1d8690cb304d@cbl.upc.edu
CREATED:20230119T083522Z
DESCRIPTION:Conferència "Castells i castellers. Tradició i modernitat"\,
  per Josep Ribes\, periodista castellder de ràdio i televisió. Premi Joa
 n Ventura i Solé de periodisme casteller 2014
LAST-MODIFIED:20230119T083526Z
URL:https://cbl.upc.edu/ca/esdeveniments/aula-dextensio-universitaria-seni
 or-upc-31
END:VEVENT
BEGIN:VTIMEZONE
TZID:Europe/Madrid
X-LIC-LOCATION:Europe/Madrid
BEGIN:STANDARD
DTSTART:20221030T020000
TZNAME:CET
TZOFFSETFROM:+0200
TZOFFSETTO:+0100
END:STANDARD
END:VTIMEZONE
END:VCALENDAR
