BEGIN:VCALENDAR
VERSION:2.0
PRODID:-//Plone.org//NONSGML plone.app.event//EN
X-WR-TIMEZONE:Europe/Madrid
BEGIN:VEVENT
SUMMARY:Aula d'Extensió Universitària Sènior
DTSTART;TZID=Europe/Madrid:20150505T180000
DTEND;TZID=Europe/Madrid:20150505T193000
DTSTAMP:20260426T042825Z
UID:36eac2a6-6e09-494f-8dde-29dc6cf044f5@peterpre.upc.edu:11001
CREATED:20150428T112600Z
LAST-MODIFIED:20150428T112600Z
URL:https://cbl.upc.edu/ca/esdeveniments/aula-dextensio-universitaria-seni
 or
END:VEVENT
BEGIN:VTIMEZONE
TZID:Europe/Madrid
X-LIC-LOCATION:Europe/Madrid
BEGIN:DAYLIGHT
DTSTART:20150329T030000
TZNAME:CEST
TZOFFSETFROM:+0100
TZOFFSETTO:+0200
END:DAYLIGHT
END:VTIMEZONE
END:VCALENDAR
