BEGIN:VCALENDAR
VERSION:2.0
PRODID:-//Plone.org//NONSGML plone.app.event//EN
X-WR-TIMEZONE:Europe/Madrid
BEGIN:VEVENT
SUMMARY:Aula d'Extensió Universitària Sènior
DTSTART;TZID=Europe/Madrid:20191126T180000
DTEND;TZID=Europe/Madrid:20191126T200000
DTSTAMP:20260420T022812Z
UID:4729178d40d34ef98253af1e1f7b95e3@cbl.upc.edu
CREATED:20191030T085308Z
LAST-MODIFIED:20191030T085445Z
LOCATION:Sala d'actes edifici C4-EETAC
URL:https://cbl.upc.edu/ca/esdeveniments/aula-dextensio-universitaria
END:VEVENT
BEGIN:VTIMEZONE
TZID:Europe/Madrid
X-LIC-LOCATION:Europe/Madrid
BEGIN:STANDARD
DTSTART:20191027T020000
TZNAME:CET
TZOFFSETFROM:+0200
TZOFFSETTO:+0100
END:STANDARD
END:VTIMEZONE
END:VCALENDAR
