BEGIN:VCALENDAR
VERSION:2.0
PRODID:-//Plone.org//NONSGML plone.app.event//EN
X-WR-TIMEZONE:Europe/Madrid
BEGIN:VEVENT
SUMMARY:Aula Sènior d'Extensió Universitària.
DTSTART;TZID=Europe/Madrid:20191119T180000
DTEND;TZID=Europe/Madrid:20191119T200000
DTSTAMP:20260420T002904Z
UID:694291108edb4fe4b46928b155d03a7b@cbl.upc.edu
CREATED:20191030T085027Z
LAST-MODIFIED:20191030T085034Z
LOCATION:Sala d'actes edifici C4-EETAc
URL:https://cbl.upc.edu/ca/esdeveniments/aula-senior-dextensio-universitar
 ia-2
END:VEVENT
BEGIN:VTIMEZONE
TZID:Europe/Madrid
X-LIC-LOCATION:Europe/Madrid
BEGIN:STANDARD
DTSTART:20191027T020000
TZNAME:CET
TZOFFSETFROM:+0200
TZOFFSETTO:+0100
END:STANDARD
END:VTIMEZONE
END:VCALENDAR
