BEGIN:VCALENDAR
VERSION:2.0
PRODID:-//Plone.org//NONSGML plone.app.event//EN
X-WR-TIMEZONE:Europe/Madrid
BEGIN:VEVENT
SUMMARY:Aula Sènior UPC
DTSTART;TZID=Europe/Madrid:20190212T180000
DTEND;TZID=Europe/Madrid:20190212T200000
DTSTAMP:20260424T154314Z
UID:249f55b7cd6c44b7b4a9b8b4a8128905@cbl.upc.edu
CREATED:20190123T064021Z
LAST-MODIFIED:20190123T064029Z
URL:https://cbl.upc.edu/ca/esdeveniments/aula-senior-upc-2
END:VEVENT
BEGIN:VTIMEZONE
TZID:Europe/Madrid
X-LIC-LOCATION:Europe/Madrid
BEGIN:STANDARD
DTSTART:20181028T020000
TZNAME:CET
TZOFFSETFROM:+0200
TZOFFSETTO:+0100
END:STANDARD
END:VTIMEZONE
END:VCALENDAR
