BEGIN:VCALENDAR
VERSION:2.0
PRODID:-//Plone.org//NONSGML plone.app.event//EN
X-WR-TIMEZONE:Europe/Madrid
BEGIN:VEVENT
SUMMARY:Aula Sènior UPC
DTSTART;TZID=Europe/Madrid:20190226T180000
DTEND;TZID=Europe/Madrid:20190226T200000
DTSTAMP:20260424T154406Z
UID:25d7876a27744dc1816088f16b51550f@cbl.upc.edu
CREATED:20190123T064449Z
LAST-MODIFIED:20190123T064501Z
LOCATION:Sala d'actes EETAC
URL:https://cbl.upc.edu/ca/esdeveniments/aula-senior-upc-4
END:VEVENT
BEGIN:VTIMEZONE
TZID:Europe/Madrid
X-LIC-LOCATION:Europe/Madrid
BEGIN:STANDARD
DTSTART:20181028T020000
TZNAME:CET
TZOFFSETFROM:+0200
TZOFFSETTO:+0100
END:STANDARD
END:VTIMEZONE
END:VCALENDAR
