BEGIN:VCALENDAR
VERSION:2.0
PRODID:-//Plone.org//NONSGML plone.app.event//EN
X-WR-TIMEZONE:Europe/Madrid
BEGIN:VEVENT
SUMMARY:Aula Sènior UPC
DTSTART;TZID=Europe/Madrid:20190129T180000
DTEND;TZID=Europe/Madrid:20190129T200000
DTSTAMP:20260425T234806Z
UID:23d4ba848fbd410eb4accfae738d2f39@cbl.upc.edu
CREATED:20190123T063408Z
LAST-MODIFIED:20190123T063426Z
URL:https://cbl.upc.edu/ca/esdeveniments/aula-senior-upc
END:VEVENT
BEGIN:VTIMEZONE
TZID:Europe/Madrid
X-LIC-LOCATION:Europe/Madrid
BEGIN:STANDARD
DTSTART:20181028T020000
TZNAME:CET
TZOFFSETFROM:+0200
TZOFFSETTO:+0100
END:STANDARD
END:VTIMEZONE
END:VCALENDAR
