BEGIN:VCALENDAR
VERSION:2.0
PRODID:-//Plone.org//NONSGML plone.app.event//EN
X-WR-TIMEZONE:Europe/Madrid
BEGIN:VEVENT
SUMMARY:Bikinada Fòrmula Student
DTSTART;TZID=Europe/Madrid:20230308T100000
DTEND;TZID=Europe/Madrid:20230308T130000
DTSTAMP:20260420T070127Z
UID:f530f0b06c8e4f369dad147ee1aaacb2@cbl.upc.edu
CREATED:20230301T064601Z
LAST-MODIFIED:20230301T064631Z
URL:https://cbl.upc.edu/ca/esdeveniments/bikinada-formula-student
END:VEVENT
BEGIN:VTIMEZONE
TZID:Europe/Madrid
X-LIC-LOCATION:Europe/Madrid
BEGIN:STANDARD
DTSTART:20221030T020000
TZNAME:CET
TZOFFSETFROM:+0200
TZOFFSETTO:+0100
END:STANDARD
END:VTIMEZONE
END:VCALENDAR
