BEGIN:VCALENDAR
VERSION:2.0
PRODID:-//Plone.org//NONSGML plone.app.event//EN
X-WR-TIMEZONE:Europe/Madrid
BEGIN:VEVENT
SUMMARY:Jornada Portes Obertes EETAC
DTSTART;TZID=Europe/Madrid:20220216T160000
DTEND;TZID=Europe/Madrid:20220216T180000
DTSTAMP:20260420T184036Z
UID:4d796ed78976432ca93fd09bd1a4b969@cbl.upc.edu
CONTACT:https://eetac.upc.edu/ca
CREATED:20220120T083010Z
LAST-MODIFIED:20220120T083802Z
URL:https://cbl.upc.edu/ca/esdeveniments/jornada-portes-obertes-eetac-6
END:VEVENT
BEGIN:VTIMEZONE
TZID:Europe/Madrid
X-LIC-LOCATION:Europe/Madrid
BEGIN:STANDARD
DTSTART:20211031T020000
TZNAME:CET
TZOFFSETFROM:+0200
TZOFFSETTO:+0100
END:STANDARD
END:VTIMEZONE
END:VCALENDAR
