BEGIN:VCALENDAR
VERSION:2.0
PRODID:-//Plone.org//NONSGML plone.app.event//EN
X-WR-TIMEZONE:Europe/Madrid
BEGIN:VEVENT
SUMMARY:Jornada RDIT Pills
DTSTART;TZID=Europe/Madrid:20191221T120000
DTEND;TZID=Europe/Madrid:20191221T131500
DTSTAMP:20260424T110434Z
UID:5d02dde40bfa4e549716994c85a60d7a@cbl.upc.edu
CREATED:20191108T113958Z
LAST-MODIFIED:20191108T114154Z
URL:https://cbl.upc.edu/ca/esdeveniments/jornada-rdit-pills
END:VEVENT
BEGIN:VTIMEZONE
TZID:Europe/Madrid
X-LIC-LOCATION:Europe/Madrid
BEGIN:STANDARD
DTSTART:20191027T020000
TZNAME:CET
TZOFFSETFROM:+0200
TZOFFSETTO:+0100
END:STANDARD
END:VTIMEZONE
END:VCALENDAR
