BEGIN:VCALENDAR
VERSION:2.0
PRODID:-//Plone.org//NONSGML plone.app.event//EN
X-WR-TIMEZONE:Europe/Madrid
BEGIN:VEVENT
SUMMARY:RDIT Pills: La velocitat del canvi i la innovació en entorns 4.0
DTSTART;TZID=Europe/Madrid:20190918T120000
DTEND;TZID=Europe/Madrid:20190918T131500
DTSTAMP:20260420T062401Z
UID:eb3933bfa57b4aad973bbe16378e1b6d@cbl.upc.edu
CREATED:20190912T113639Z
LAST-MODIFIED:20190912T113747Z
LOCATION:Sala 013 \, planta baixa Edifici RDIT\, PMT – Campus Baix Llobr
 egat . Parc Mediterrani de la Tecnologia  Com arribar-hi: Google maps
URL:https://cbl.upc.edu/ca/esdeveniments/rdit-pills
END:VEVENT
BEGIN:VTIMEZONE
TZID:Europe/Madrid
X-LIC-LOCATION:Europe/Madrid
BEGIN:DAYLIGHT
DTSTART:20190331T030000
TZNAME:CEST
TZOFFSETFROM:+0100
TZOFFSETTO:+0200
END:DAYLIGHT
END:VTIMEZONE
END:VCALENDAR
