BEGIN:VCALENDAR
VERSION:2.0
PRODID:-//Plone.org//NONSGML plone.app.event//EN
X-WR-TIMEZONE:Europe/Madrid
BEGIN:VEVENT
SUMMARY:Taller UPC Alumni: Com fer un bon  CV
DTSTART;TZID=Europe/Madrid:20150930T120000
DTEND;TZID=Europe/Madrid:20150930T140000
DTSTAMP:20260424T200402Z
UID:1063104d-7c31-4e7a-81bd-984ac8ebcadc@peterpre.upc.edu:11001
CREATED:20150923T080500Z
DESCRIPTION:Imprescindible inscripció.
LAST-MODIFIED:20150923T080700Z
LOCATION:C4-234 EETAC
URL:https://cbl.upc.edu/ca/esdeveniments/taller-upc-alumni-com-fer-un-bon-
 cv
END:VEVENT
BEGIN:VTIMEZONE
TZID:Europe/Madrid
X-LIC-LOCATION:Europe/Madrid
BEGIN:DAYLIGHT
DTSTART:20150329T030000
TZNAME:CEST
TZOFFSETFROM:+0100
TZOFFSETTO:+0200
END:DAYLIGHT
END:VTIMEZONE
END:VCALENDAR
