BEGIN:VCALENDAR
VERSION:2.0
PRODID:-//Plone.org//NONSGML plone.app.event//EN
X-WR-TIMEZONE:Europe/Madrid
BEGIN:VEVENT
SUMMARY:Fòrums d'empresas Aerotelecom 2026
DTSTART;TZID=Europe/Madrid:20260513T093000
DTEND;TZID=Europe/Madrid:20260513T180000
DTSTAMP:20260420T162428Z
UID:2cf39bf01561417cb8f82e4b5afdb0fe@cbl.upc.edu
CONTACT:https://aerotelecom.es/ca/
CREATED:20260417T120209Z
LAST-MODIFIED:20260420T082214Z
LOCATION:EETAC\, UPC Castelldefels  Calle de Esteve Terradas\, 7
URL:https://cbl.upc.edu/ca/forums-empresas-aerotelecom-2026
END:VEVENT
BEGIN:VTIMEZONE
TZID:Europe/Madrid
X-LIC-LOCATION:Europe/Madrid
BEGIN:DAYLIGHT
DTSTART:20260329T030000
TZNAME:CEST
TZOFFSETFROM:+0100
TZOFFSETTO:+0200
END:DAYLIGHT
END:VTIMEZONE
END:VCALENDAR
