BEGIN:VCALENDAR
VERSION:2.0
PRODID:-//Plone.org//NONSGML plone.app.event//EN
X-WR-TIMEZONE:Europe/Madrid
BEGIN:VEVENT
SUMMARY:Fòrums d' empresas Bioenginy 2026
DTSTART;TZID=Europe/Madrid:20260513T093000
DTEND;TZID=Europe/Madrid:20260513T160000
DTSTAMP:20260420T181412Z
UID:fcbb6dedf02c4465a31b92a411a2303f@cbl.upc.edu
CONTACT:https://forumbioenginy.upc.edu/
CREATED:20260420T074721Z
LAST-MODIFIED:20260420T082211Z
URL:https://cbl.upc.edu/ca/forums-empresas-bioenginy-2026
END:VEVENT
BEGIN:VTIMEZONE
TZID:Europe/Madrid
X-LIC-LOCATION:Europe/Madrid
BEGIN:DAYLIGHT
DTSTART:20260329T030000
TZNAME:CEST
TZOFFSETFROM:+0100
TZOFFSETTO:+0200
END:DAYLIGHT
END:VTIMEZONE
END:VCALENDAR
